BEGIN:VCALENDAR
VERSION:2.0
PRODID:icalendar-ruby
CALSCALE:GREGORIAN
METHOD:PUBLISH
BEGIN:VEVENT
DTSTAMP:20260425T103204Z
UID:32-1014465@wordformed.org
DTSTART:20260707T160000Z
DTEND:20260707T170000Z
CLASS:PUBLIC
CREATED:20260424T212436
DESCRIPTION:Please use Foss Street
LAST-MODIFIED:20260424T212436
LOCATION:
SUMMARY:Noon Day Prayer
URL;VALUE=URI:https://www.wordformed.org/events/noon-day-prayer/2026-07-07
ATTACH;FILENAME=Bishop-Laying-Hands.jpeg;FMTTYPE=image/jpeg:https://dq5pwpg
 1q8ru0.cloudfront.net/2024/09/17/01/55/30/c2a95631-0e69-4bb9-a9cb-bbf639a3
 decd/Bishop-Laying-Hands.jpeg
END:VEVENT
END:VCALENDAR
